BEGIN:VCALENDAR
VERSION:2.0
PRODID:-// - ECPv6.15.20//NONSGML v1.0//EN
CALSCALE:GREGORIAN
METHOD:PUBLISH
X-ORIGINAL-URL:https://www.lycee-charles-nodier-ac-besancon.fr/wordpress
X-WR-CALDESC:Évènements pour 
REFRESH-INTERVAL;VALUE=DURATION:PT1H
X-Robots-Tag:noindex
X-PUBLISHED-TTL:PT1H
BEGIN:VTIMEZONE
TZID:Europe/Paris
BEGIN:DAYLIGHT
TZOFFSETFROM:+0100
TZOFFSETTO:+0200
TZNAME:CEST
DTSTART:20170326T010000
END:DAYLIGHT
BEGIN:STANDARD
TZOFFSETFROM:+0200
TZOFFSETTO:+0100
TZNAME:CET
DTSTART:20171029T010000
END:STANDARD
BEGIN:DAYLIGHT
TZOFFSETFROM:+0100
TZOFFSETTO:+0200
TZNAME:CEST
DTSTART:20180325T010000
END:DAYLIGHT
BEGIN:STANDARD
TZOFFSETFROM:+0200
TZOFFSETTO:+0100
TZNAME:CET
DTSTART:20181028T010000
END:STANDARD
BEGIN:DAYLIGHT
TZOFFSETFROM:+0100
TZOFFSETTO:+0200
TZNAME:CEST
DTSTART:20190331T010000
END:DAYLIGHT
BEGIN:STANDARD
TZOFFSETFROM:+0200
TZOFFSETTO:+0100
TZNAME:CET
DTSTART:20191027T010000
END:STANDARD
END:VTIMEZONE
BEGIN:VEVENT
DTSTART;TZID=Europe/Paris:20180203T090000
DTEND;TZID=Europe/Paris:20180203T120000
DTSTAMP:20260424T154344
CREATED:20180113T161634Z
LAST-MODIFIED:20180113T161634Z
UID:2265-1517648400-1517659200@www.lycee-charles-nodier-ac-besancon.fr
SUMMARY:Journée Portes Ouvertes BTS Tourisme – Formation initiale / Apprentissage
DESCRIPTION:Télécharger le flyer
URL:https://www.lycee-charles-nodier-ac-besancon.fr/wordpress/event/journee-portes-ouvertes-bts-tourisme-formation-initiale-apprentissage-2/
LOCATION:Lycée Charles Nodier\, 6 Grande Rue\, Dole\, 39100\, France
CATEGORIES:Journées Portes Ouvertes
ATTACH;FMTTYPE=image/gif:https://www.lycee-charles-nodier-ac-besancon.fr/wordpress/wp-content/uploads/2016/07/nodier.gif
END:VEVENT
END:VCALENDAR